BEGIN:VCALENDAR
VERSION:2.0
PRODID:-//Harvest International Ministries - ECPv6.14.2//NONSGML v1.0//EN
CALSCALE:GREGORIAN
METHOD:PUBLISH
X-ORIGINAL-URL:https://www.experiencehim.org
X-WR-CALDESC:Events for Harvest International Ministries
REFRESH-INTERVAL;VALUE=DURATION:PT1H
X-Robots-Tag:noindex
X-PUBLISHED-TTL:PT1H
BEGIN:VTIMEZONE
TZID:America/Chicago
BEGIN:DAYLIGHT
TZOFFSETFROM:-0600
TZOFFSETTO:-0500
TZNAME:CDT
DTSTART:20200308T080000
END:DAYLIGHT
BEGIN:STANDARD
TZOFFSETFROM:-0500
TZOFFSETTO:-0600
TZNAME:CST
DTSTART:20201101T070000
END:STANDARD
BEGIN:DAYLIGHT
TZOFFSETFROM:-0600
TZOFFSETTO:-0500
TZNAME:CDT
DTSTART:20210314T080000
END:DAYLIGHT
BEGIN:STANDARD
TZOFFSETFROM:-0500
TZOFFSETTO:-0600
TZNAME:CST
DTSTART:20211107T070000
END:STANDARD
END:VTIMEZONE
BEGIN:VEVENT
DTSTART;TZID=America/Chicago:20211106T140000
DTEND;TZID=America/Chicago:20211106T140000
DTSTAMP:20260424T085629
CREATED:20210201T155114Z
LAST-MODIFIED:20211020T201337Z
UID:15347-1636207200-1636207200@www.experiencehim.org
SUMMARY:Greater Glory
DESCRIPTION:
URL:https://www.experiencehim.org/calendar/greater-glory/
LOCATION:Canaan Land Ministries\, 449 County Road 165\, Autaugaville\, AL\, 36003\, United States
CATEGORIES:Tracy Harris Itinerary
END:VEVENT
BEGIN:VEVENT
DTSTART;VALUE=DATE:20211031
DTEND;VALUE=DATE:20211102
DTSTAMP:20260424T085629
CREATED:20211012T180619Z
LAST-MODIFIED:20211012T180619Z
UID:17187-1635638400-1635811199@www.experiencehim.org
SUMMARY:Word + Spirit Conference
DESCRIPTION:Word + Spirit Conference\nHosted by:\nTransformation Church LBK\nPastors Gary & Jan Delay\n5302 Elgin Avenue\nLubbock\, TX 79423\nService Times:\nOctober 31\, Sunday Night at 6:00PM\nNovember 1\, Monday Night at 7:00PM
URL:https://www.experiencehim.org/calendar/word-spirit-conference/
LOCATION:Transformation Church LBK\, 5302 Elgin Avenue\, Lubbock\, TX\, 79423\, United States
CATEGORIES:Tracy Harris Itinerary
END:VEVENT
BEGIN:VEVENT
DTSTART;TZID=America/Chicago:20211025T153000
DTEND;TZID=America/Chicago:20211025T163000
DTSTAMP:20260424T085629
CREATED:20211012T205815Z
LAST-MODIFIED:20211012T205815Z
UID:17194-1635175800-1635179400@www.experiencehim.org
SUMMARY:Live on Top TV
DESCRIPTION:Live on Top TV\n4:30-5:30PM Eastern Standard Time\nJoin on Top TV’s Website at:\nhttps://toptvug.com\nor on their Facebook Page at:\nhttps://www.facebook.com/TopTelevisionUg/ \n 
URL:https://www.experiencehim.org/calendar/live-on-top-tv/
CATEGORIES:Tracy Harris Itinerary
END:VEVENT
BEGIN:VEVENT
DTSTART;TZID=America/Chicago:20211019T141500
DTEND;TZID=America/Chicago:20211019T144500
DTSTAMP:20260424T085629
CREATED:20211012T204015Z
LAST-MODIFIED:20211012T204015Z
UID:17193-1634652900-1634654700@www.experiencehim.org
SUMMARY:Live on King TV
DESCRIPTION:Live on King TV\nThe Gospel Program\n3:15-3:45PM Eastern Standard Time \nJoin on King Television’s YouTube Channel at:\nhttps://www.youtube.com/channel/UCs7mfEcsp7ql2j1M0igl3gw/featured
URL:https://www.experiencehim.org/calendar/live-on-king-tv/
CATEGORIES:Tracy Harris Itinerary
END:VEVENT
BEGIN:VEVENT
DTSTART;VALUE=DATE:20211015
DTEND;VALUE=DATE:20211018
DTSTAMP:20260424T085629
CREATED:20210428T210014Z
LAST-MODIFIED:20210713T201842Z
UID:15678-1634256000-1634515199@www.experiencehim.org
SUMMARY:Fresh Fire Meetings
DESCRIPTION:FRESH FIRE MEETINGS IN SC\nJoin Brother Tracy in Jefferson\, SC with Pastors Eddie & Alli Smith for Fresh Fire Meetings! You won’t leave the same way you came\, in Jesus’ Name! \nService Times: \nFriday Night at 7:00PMSaturday Night at 6:00PMSunday Morning at 10:00AM
URL:https://www.experiencehim.org/calendar/fresh-fire-meetings/
LOCATION:Faith Family Church\, 5779 Mount Pisgah Road\, Jefferson\, SC\, 29718\, United States
CATEGORIES:Tracy Harris Itinerary
END:VEVENT
BEGIN:VEVENT
DTSTART;TZID=America/Chicago:20211013T130000
DTEND;TZID=America/Chicago:20211013T140000
DTSTAMP:20260424T085629
CREATED:20211012T182108Z
LAST-MODIFIED:20211012T182108Z
UID:17190-1634130000-1634133600@www.experiencehim.org
SUMMARY:Live on King Television
DESCRIPTION:Live on King Television from 2:00-3:00PM\, Eastern Standard Time \n  \nJoin on King Television’s YouTube Channel at:  https://www.youtube.com/channel/UCs7mfEcsp7ql2j1M0igl3gw/featured
URL:https://www.experiencehim.org/calendar/live-on-king-television/
CATEGORIES:Tracy Harris Itinerary
END:VEVENT
BEGIN:VEVENT
DTSTART;VALUE=DATE:20211005
DTEND;VALUE=DATE:20211007
DTSTAMP:20260424T085629
CREATED:20210910T225157Z
LAST-MODIFIED:20211001T153104Z
UID:16981-1633392000-1633564799@www.experiencehim.org
SUMMARY:Moulton\, AL-Meetings POSTPONED
DESCRIPTION:These meetings have been postponed. Will update with future dates when available. \nCornerstone Church \nPastors Tony & Sonya Collins \n14774 Alabama Highway 157 \nMouton\, AL 35650 \nService Time: \n7:00PM Nightly
URL:https://www.experiencehim.org/calendar/moulton-al/
LOCATION:Cornerstone Church\, 14774 Alabama Highway 157\, Moulton\, AL\, 35650\, United States
CATEGORIES:Tracy Harris Itinerary
END:VEVENT
BEGIN:VEVENT
DTSTART;VALUE=DATE:20210924
DTEND;VALUE=DATE:20210926
DTSTAMP:20260424T085629
CREATED:20210910T222452Z
LAST-MODIFIED:20210910T224158Z
UID:16976-1632441600-1632614399@www.experiencehim.org
SUMMARY:Hays\, KS
DESCRIPTION:Hays Family Worship Center \nPastor Darrell Sutton \n1651 Yocemento Avenue \nHays\, KS 67601 \nService Time: \n7:00PM Friday Night \n9:30AM Saturday Morning \n 
URL:https://www.experiencehim.org/calendar/hays-ks/
LOCATION:Hays Family Worship Center\, 1651 Yocemento Avenue\, Hays\, KS\, 67601\, United States
CATEGORIES:Tracy Harris Itinerary
END:VEVENT
BEGIN:VEVENT
DTSTART;VALUE=DATE:20210922
DTEND;VALUE=DATE:20210924
DTSTAMP:20260424T085629
CREATED:20210910T222930Z
LAST-MODIFIED:20210910T222930Z
UID:16978-1632268800-1632441599@www.experiencehim.org
SUMMARY:Adrian\, MI
DESCRIPTION:Freedom Christian Fellowship  \nPastor Jerry Lacey \n1144 Michigan Avenue \nAdrian MI 49221 \nService Time: \n7:00PM Nightly
URL:https://www.experiencehim.org/calendar/adrian-mi/
LOCATION:Freedom Christian Fellowship\, 1144 Michigan Avenue\, Adrian\, MI\, 49221\, United States
CATEGORIES:Tracy Harris Itinerary
END:VEVENT
BEGIN:VEVENT
DTSTART;VALUE=DATE:20210921
DTEND;VALUE=DATE:20210922
DTSTAMP:20260424T085629
CREATED:20210912T000305Z
LAST-MODIFIED:20210912T000305Z
UID:16984-1632182400-1632268799@www.experiencehim.org
SUMMARY:Niles\, MI
DESCRIPTION:Faith for Life Church\nPastors Roger & Karen Cook\n1928 East Bertrand Road\nNiles\, MI 49120 \nService Time:\n7:00PM
URL:https://www.experiencehim.org/calendar/niles-mi/
LOCATION:Faith for Life Church\, 1928 East Bertrand Road\, Niles\, MI\, 49120\, United States
CATEGORIES:Tracy Harris Itinerary
END:VEVENT
BEGIN:VEVENT
DTSTART;VALUE=DATE:20210919
DTEND;VALUE=DATE:20210921
DTSTAMP:20260424T085629
CREATED:20210910T224616Z
LAST-MODIFIED:20210910T224616Z
UID:16980-1632009600-1632182399@www.experiencehim.org
SUMMARY:KCM Victorython
DESCRIPTION:KCM Victorython \nLive Event on Victory Channel \nClick Here for more information.
URL:https://www.experiencehim.org/calendar/kcm-victorython/
CATEGORIES:Tracy Harris Itinerary
END:VEVENT
BEGIN:VEVENT
DTSTART;VALUE=DATE:20210912
DTEND;VALUE=DATE:20210914
DTSTAMP:20260424T085629
CREATED:20210910T220104Z
LAST-MODIFIED:20210910T231204Z
UID:16974-1631404800-1631577599@www.experiencehim.org
SUMMARY:Evansville\, IN
DESCRIPTION:Hope City Church \nPastors John & Shanti Culbertson \n1001 North Main Street \nEvansville\, IN  47711 \nService Time: \nNightly at 6:30PM
URL:https://www.experiencehim.org/calendar/evansville-in/
LOCATION:Hope City Church\, 1001 North Main Street\, Evansville\, IN\, 47711\, United States
CATEGORIES:Tracy Harris Itinerary
END:VEVENT
BEGIN:VEVENT
DTSTART;VALUE=DATE:20210819
DTEND;VALUE=DATE:20210822
DTSTAMP:20260424T085629
CREATED:20210605T204328Z
LAST-MODIFIED:20210728T214815Z
UID:15516-1629331200-1629590399@www.experiencehim.org
SUMMARY:Houston Miracle Breakthrough Crusade 2021
DESCRIPTION:AUGUST 19-21\, 2021\n \nService Times:\nThursday Night at 7:00PM \nFriday Morning at 9:30AM \nFriday Night at 7:00PM \nSaturday Morning at 9:30AM \nHotel Information:\nHyatt Place \n16730 Creekbend Drive \nSugar Land\, TX 77478 \nPhone: (281) 491-0300 \nRates: \nKing Room $89.00/night \nDouble Queen Room $79.00/night​ \nClick the Link Below then Click on “Book Now” in upper right corner. \n\nBook Hotel Here
URL:https://www.experiencehim.org/calendar/houston-miracle-breakthrough-crusdae-2021/
LOCATION:West Houston Christian Center\, 11300 Wilcrest Green Drive\, Houston\, TX\, 77042\, United States
CATEGORIES:Conferences
END:VEVENT
BEGIN:VEVENT
DTSTART;VALUE=DATE:20210815
DTEND;VALUE=DATE:20210816
DTSTAMP:20260424T085629
CREATED:20210811T014750Z
LAST-MODIFIED:20210811T014953Z
UID:16576-1628985600-1629071999@www.experiencehim.org
SUMMARY:Del Rio\, Texas
DESCRIPTION:Grace Community Church \nPastors Terry & Dorcas Maris \n709 Kings Way \nDel Rio\, TX 78840 \nService Time: \n6:00PM
URL:https://www.experiencehim.org/calendar/del-rio-texas/
LOCATION:Grace Community Church\, 709 Kings Way\, Del Rio\, TX\, 78840\, United States
CATEGORIES:Tracy Harris Itinerary
END:VEVENT
BEGIN:VEVENT
DTSTART;VALUE=DATE:20210813
DTEND;VALUE=DATE:20210816
DTSTAMP:20260424T085629
CREATED:20210811T013505Z
LAST-MODIFIED:20210811T013723Z
UID:16574-1628812800-1629071999@www.experiencehim.org
SUMMARY:Iglesia SM Church 44th Anniversary Celebration
DESCRIPTION:Iglesia SM Church \nPastors Tobi & Miranda Hernandez \nService Times: \nFriday at 7:00PM \nSaturday at 6:00PM \nSunday at 10:00AM
URL:https://www.experiencehim.org/calendar/iglesia-sm-church-44th-anniversary-celebration/
CATEGORIES:Tracy Harris Itinerary
END:VEVENT
BEGIN:VEVENT
DTSTART;VALUE=DATE:20210718
DTEND;VALUE=DATE:20210721
DTSTAMP:20260424T085629
CREATED:20210201T155025Z
LAST-MODIFIED:20210704T010816Z
UID:15346-1626566400-1626825599@www.experiencehim.org
SUMMARY:Central Georgia District Campmeeting
DESCRIPTION:July 18-20\, 2021\n \nSunday Night at 6:00PM \nMonday and Tuesday Nights at 7:00PM
URL:https://www.experiencehim.org/calendar/central-georgia-district-campmeeting/
LOCATION:Pirkle Memorial Campground\, 3990 Fayetteville Highway\, Griffin\, GA\, 30223\, United States
CATEGORIES:Tracy Harris Itinerary
END:VEVENT
BEGIN:VEVENT
DTSTART;VALUE=DATE:20210711
DTEND;VALUE=DATE:20210712
DTSTAMP:20260424T085629
CREATED:20210704T012411Z
LAST-MODIFIED:20210704T012411Z
UID:16409-1625961600-1626047999@www.experiencehim.org
SUMMARY:North Highlands\, CA
DESCRIPTION:July 11\, 2021\nSunday Night\n\nFamily Community Church\nPastor Bill Krause\n6331 Watt Avenue\nNorth Highlands CA 95660\nPhone:  (916) 334-7700\nfamilycc.org \nService Time: 6:00PM
URL:https://www.experiencehim.org/calendar/north-highlands-ca/
LOCATION:Family Community Church\, 6331 Watt Avenue\, North Highlands\, CA\, 95660\, United States
CATEGORIES:Tracy Harris Itinerary
END:VEVENT
BEGIN:VEVENT
DTSTART;VALUE=DATE:20210711
DTEND;VALUE=DATE:20210712
DTSTAMP:20260424T085629
CREATED:20210704T012153Z
LAST-MODIFIED:20210704T012153Z
UID:16407-1625961600-1626047999@www.experiencehim.org
SUMMARY:Visalia\, CA
DESCRIPTION:July 11\, 2021\nSunday Morning\nWest Coast Believers Center Int.\nPastor Joshua & Iliana Bulger\n3737 W. Walnut Avenue\nVisalia\, CA 93277\nPhone:  (559) 732-4791\nwww.wcbci.org \nService Time: 10:00AM
URL:https://www.experiencehim.org/calendar/visalia-ca/
LOCATION:West Coast Believers Center International\, 3737 West Walnut Avenue\, Visalia\, CA\, 93277\, United States
CATEGORIES:Tracy Harris Itinerary
END:VEVENT
BEGIN:VEVENT
DTSTART;VALUE=DATE:20210622
DTEND;VALUE=DATE:20210625
DTSTAMP:20260424T085629
CREATED:20201001T181710Z
LAST-MODIFIED:20210429T205827Z
UID:13831-1624320000-1624579199@www.experiencehim.org
SUMMARY:Ministers’ Conference June 2021
DESCRIPTION:-1767Days\n				-3Hours\n				-56Minutes\n				-29Seconds\n			\nHOTEL INFORMATION
URL:https://www.experiencehim.org/calendar/ministers-conference-june-2021/
LOCATION:Harvest International Ministries\, 4000 Arkansas Blvd\, Texarkana\, AR\, 71854\, United States
CATEGORIES:Conferences
ORGANIZER;CN="Wendy Legrand":MAILTO:le4grand@aol.com
END:VEVENT
BEGIN:VEVENT
DTSTART;VALUE=DATE:20210530
DTEND;VALUE=DATE:20210531
DTSTAMP:20260424T085629
CREATED:20210518T155847Z
LAST-MODIFIED:20210518T155847Z
UID:15843-1622332800-1622419199@www.experiencehim.org
SUMMARY:Free Trade Church of God
DESCRIPTION:Service Time:  6:00PM\nFree Trade Church of God\nPastors Mark & Gayla Gill\n146 Hanna Road\nCarthage\, MS  39051\nChurch Phone:  (601) 267-5895
URL:https://www.experiencehim.org/calendar/free-trade-church-of-god/
LOCATION:Free Trade Church of God\, 146 Hanna Road\, Carthage\, MS\, 39051\, United States
CATEGORIES:Tracy Harris Itinerary
END:VEVENT
BEGIN:VEVENT
DTSTART;TZID=America/Chicago:20210421T190000
DTEND;TZID=America/Chicago:20210421T190000
DTSTAMP:20260424T085629
CREATED:20210408T210021Z
LAST-MODIFIED:20210408T210330Z
UID:15515-1619031600-1619031600@www.experiencehim.org
SUMMARY:Houston\, TX Tour
DESCRIPTION:Wednesday\, April 21\, 2021 at 7:00PM \nLove Walk Christian Center \nPastors Philip & Tara Roman \n13319 Wallisville Road \nHouston\, TX  77049
URL:https://www.experiencehim.org/calendar/houston-tx-tour-3/
CATEGORIES:Tracy Harris Itinerary
END:VEVENT
BEGIN:VEVENT
DTSTART;TZID=America/Chicago:20210420T190000
DTEND;TZID=America/Chicago:20210420T190000
DTSTAMP:20260424T085629
CREATED:20210408T205643Z
LAST-MODIFIED:20210408T210638Z
UID:15514-1618945200-1618945200@www.experiencehim.org
SUMMARY:Houston\, TX Tour
DESCRIPTION:Tuesday\, April 20\, 2021 at 7:00PM \nReign in Life Church \nPastors Jerrold & Tadassi Bookman \n3712 East Broadway \nPearland\, TX  77581 \n(713) 594-3986
URL:https://www.experiencehim.org/calendar/houston-tx-tour-2/
CATEGORIES:Tracy Harris Itinerary
END:VEVENT
BEGIN:VEVENT
DTSTART;VALUE=DATE:20210418
DTEND;VALUE=DATE:20210419
DTSTAMP:20260424T085629
CREATED:20210408T204701Z
LAST-MODIFIED:20210408T210144Z
UID:15512-1618704000-1618790399@www.experiencehim.org
SUMMARY:Houston\, TX Tour
DESCRIPTION:Sunday\, April 18\, 2021 \nTimes:  10:30AM & 6:00PM \nWest Houston Christian Center \nPastors Jack & Michelle Pidgeon \n11300 Wilcrest Green Drive \nHouston\, TX  77042 \n(713) 954-0422
URL:https://www.experiencehim.org/calendar/houston-tx-tour/
CATEGORIES:Tracy Harris Itinerary
END:VEVENT
BEGIN:VEVENT
DTSTART;VALUE=DATE:20210309
DTEND;VALUE=DATE:20210312
DTSTAMP:20260424T085629
CREATED:20210120T204422Z
LAST-MODIFIED:20210224T204613Z
UID:15281-1615248000-1615507199@www.experiencehim.org
SUMMARY:Ministers’ Conference March 2021
DESCRIPTION:You have been asking\, and we are coming back to Pigeon Forge\, TN!! \nJoin us for 3 days of power packed services as we look into the Age to Come. God is getting His church ready for the Glory. We are going through The Opening into the fulfillment of the restoration of all things. Are you ready? Now is the time-you won’t leave the same way you came! \nSCHEDULE\nTuesday Night at 6:00PM \nWednesday Morning at 9:00AM \nWednesday Night at 6:00PM \nThursday Morning at 9:00AM \nNo Service on Thursday Evening. It will be a time of fellowship together. \n  \n\nAsk for the Harvest International Ministries Special Rate \n\n\nOne Bedroom Condos $139.00 \n\n\nTwo Bedroom Condos $169.00 \n\n\nClick link below to make your reservations\, or call (865) 908-0660 option #1.
URL:https://www.experiencehim.org/calendar/ministers-conference-march-2021/
LOCATION:Riverstone Resort and Spa\, 212 Dollywood Lane\, Pigeon Forge\, TN\, 37863\, United States
CATEGORIES:Conferences
END:VEVENT
BEGIN:VEVENT
DTSTART;TZID=America/Chicago:20210202T190000
DTEND;TZID=America/Chicago:20210202T190000
DTSTAMP:20260424T085629
CREATED:20210120T202930Z
LAST-MODIFIED:20210201T160140Z
UID:15279-1612292400-1612292400@www.experiencehim.org
SUMMARY:Evening Meeting in Okolona\, MS
DESCRIPTION:
URL:https://www.experiencehim.org/calendar/meeting-in-okolona-ms-2-2/
LOCATION:Faith Outreach Center\, 272 North McDonnell Street\, Okolona\, MS\, 38860\, United States
CATEGORIES:Tracy Harris Itinerary
END:VEVENT
BEGIN:VEVENT
DTSTART;TZID=America/Chicago:20210201T190000
DTEND;TZID=America/Chicago:20210201T190000
DTSTAMP:20260424T085629
CREATED:20210120T203237Z
LAST-MODIFIED:20210201T160147Z
UID:15280-1612206000-1612206000@www.experiencehim.org
SUMMARY:Evening Meeting in Okolona\, MS
DESCRIPTION:
URL:https://www.experiencehim.org/calendar/meeting-in-okolona-ms-2-2-2/
LOCATION:Faith Outreach Center\, 272 North McDonnell Street\, Okolona\, MS\, 38860\, United States
CATEGORIES:Tracy Harris Itinerary
END:VEVENT
BEGIN:VEVENT
DTSTART;TZID=America/Chicago:20210131T190000
DTEND;TZID=America/Chicago:20210131T190000
DTSTAMP:20260424T085629
CREATED:20210120T202114Z
LAST-MODIFIED:20210201T160123Z
UID:15278-1612119600-1612119600@www.experiencehim.org
SUMMARY:Evening Meeting in Okolona\, MS
DESCRIPTION:
URL:https://www.experiencehim.org/calendar/meeting-in-okolona-ms-2/
LOCATION:Faith Outreach Center\, 272 North McDonnell Street\, Okolona\, MS\, 38860\, United States
CATEGORIES:Tracy Harris Itinerary
END:VEVENT
BEGIN:VEVENT
DTSTART;TZID=America/Chicago:20210131T103000
DTEND;TZID=America/Chicago:20210131T103000
DTSTAMP:20260424T085629
CREATED:20210120T201303Z
LAST-MODIFIED:20210201T160133Z
UID:15276-1612089000-1612089000@www.experiencehim.org
SUMMARY:Morning Meeting in Okolona\, MS
DESCRIPTION:
URL:https://www.experiencehim.org/calendar/meeting-in-okolona-ms/
LOCATION:Faith Outreach Center\, 272 North McDonnell Street\, Okolona\, MS\, 38860\, United States
CATEGORIES:Tracy Harris Itinerary
END:VEVENT
BEGIN:VEVENT
DTSTART;VALUE=DATE:20201015
DTEND;VALUE=DATE:20201017
DTSTAMP:20260424T085629
CREATED:20201001T181054Z
LAST-MODIFIED:20201001T212711Z
UID:13829-1602720000-1602892799@www.experiencehim.org
SUMMARY:Meeting in Houston\, TX
DESCRIPTION:Church meeting with Pastors Jack and Michelle Pidgeon\, JR.
URL:https://www.experiencehim.org/calendar/meeting-in-houston-tx/
LOCATION:West Houston Christian Center\, 11300 Wilcrest Green Drive\, Houston\, TX\, 77042\, United States
CATEGORIES:Tracy Harris Itinerary
END:VEVENT
BEGIN:VEVENT
DTSTART;TZID=America/Chicago:20201008T090000
DTEND;TZID=America/Chicago:20201008T120000
DTSTAMP:20260424T085629
CREATED:20201001T180652Z
LAST-MODIFIED:20201001T182502Z
UID:13827-1602147600-1602158400@www.experiencehim.org
SUMMARY:WMF Convocation 2020
DESCRIPTION:
URL:https://www.experiencehim.org/calendar/wmf-convocation-2020/
LOCATION:Victory Church\, 6301 Parker Road\, Parker\, TX\, 75002\, United States
CATEGORIES:Tracy Harris Itinerary
END:VEVENT
END:VCALENDAR